BEGIN:VCALENDAR
VERSION:2.0
PRODID:-//Churrasco Brazilian Steakhouse - ECPv6.11.2.1//NONSGML v1.0//EN
CALSCALE:GREGORIAN
METHOD:PUBLISH
X-WR-CALNAME:Churrasco Brazilian Steakhouse
X-ORIGINAL-URL:https://churrascobr.com
X-WR-CALDESC:Events for Churrasco Brazilian Steakhouse
REFRESH-INTERVAL;VALUE=DURATION:PT1H
X-Robots-Tag:noindex
X-PUBLISHED-TTL:PT1H
BEGIN:VTIMEZONE
TZID:America/Los_Angeles
BEGIN:DAYLIGHT
TZOFFSETFROM:-0800
TZOFFSETTO:-0700
TZNAME:PDT
DTSTART:20220313T100000
END:DAYLIGHT
BEGIN:STANDARD
TZOFFSETFROM:-0700
TZOFFSETTO:-0800
TZNAME:PST
DTSTART:20221106T090000
END:STANDARD
BEGIN:DAYLIGHT
TZOFFSETFROM:-0800
TZOFFSETTO:-0700
TZNAME:PDT
DTSTART:20230312T100000
END:DAYLIGHT
BEGIN:STANDARD
TZOFFSETFROM:-0700
TZOFFSETTO:-0800
TZNAME:PST
DTSTART:20231105T090000
END:STANDARD
END:VTIMEZONE
BEGIN:VEVENT
DTSTART;TZID=America/Los_Angeles:20230617T113000
DTEND;TZID=America/Los_Angeles:20230617T200000
DTSTAMP:20260424T165945
CREATED:20230601T004500Z
LAST-MODIFIED:20230618T161940Z
UID:8520-1687001400-1687032000@churrascobr.com
SUMMARY:FATHER'S DAY SPECIAL
DESCRIPTION:Come celebrate all the Dads in your life and honor them at Churrasco all weekend long. When you dine in any day Father’s Day Weekend (lunch or dinner\, June 17th – June 18th) each dad in your party will receive a complimentary Dinner Card for a future visit.* \nHours:Extended hours for Father’s DayWeekend Lunch begins at 11:30 – 2:30pm\nDinner begins at 4:00 – 8:30pm \nWe will be serving the full Rodizio dinner all day long at dinner pricing (15 all you can eat meats and fresh market table.)\nRestrictions:\n* Card valid Monday to Thursday only. Card is not valid with any other offer.  Limit one discount card per check/table when redeeming card. This card has no cash value. This complimentary dinner card is valid from 6/19/23-9/28/23. You can only get the card when you dine in June 17th & 18th for lunch or dinner. Offer valid only at Churrasco Reno\, 425 S. Virginia St. \n  \n\nRESERVE A TABLE \nThank you for celebrating Father’s Day at Churrasco. \n 
URL:https://churrascobr.com/promotion/fathers-day-free-dinner-deal/
ATTACH;FMTTYPE=image/jpeg:https://churrascobr.com/wp-content/uploads/2023/05/Blue-Modern-Happy-Fathers-Day-Sale-Instagram-Story-1-scaled.jpg
END:VEVENT
BEGIN:VEVENT
DTSTART;TZID=America/Los_Angeles:20230605T170000
DTEND;TZID=America/Los_Angeles:20230617T210000
DTSTAMP:20260424T165945
CREATED:20230315T224025Z
LAST-MODIFIED:20230618T162007Z
UID:8341-1685984400-1687035600@churrascobr.com
SUMMARY:Mother's Day
DESCRIPTION:For those who received a Mother’s Day $20 discount card:\nPromotion Details:\n* $20 Discount card good for $20 off any full Rodizo dinner from May 15- August 31 2023! Dinner will be served all day at dinner pricing. That includes 15 all you can eat cuts of meat (beef\, chicken\, pork\, lamb) plus all you can eat fresh market table sides & salads for one set price all day. $20 discount card valid any day Sunday through Thursday until 8/31/23. Not valid with any other offer. Limit one discount per check/table. Not valid on Holidays including Father’s Day. 
URL:https://churrascobr.com/promotion/mothers-day-dinner/
CATEGORIES:eClub,Events
ATTACH;FMTTYPE=image/jpeg:https://churrascobr.com/wp-content/uploads/2023/03/White-and-Black-National-Maritime-Day-Social-Media-Graphic-1-scaled.jpg
END:VEVENT
BEGIN:VEVENT
DTSTART;TZID=America/Los_Angeles:20230602T080000
DTEND;TZID=America/Los_Angeles:20230714T170000
DTSTAMP:20260424T165945
CREATED:20230303T224403Z
LAST-MODIFIED:20230602T185353Z
UID:8328-1685692800-1689354000@churrascobr.com
SUMMARY:USBC Open Championships Deals
DESCRIPTION:Churrasco Brazilian Steakhouse Welcomes the USBC Open Championships\, Reno 2023!\nChurrasco welcomes all bowlers to Reno\, NV! In celebration of your return to Reno\, we’ll be offering a special discount running from March 1\, 2023 through July 24\, 2023. The special deal details are as follows: \n10% off every rodizio dinner in your party* \n*Offer is valid for all USBC open championship bowlers who show their bowling badge to the server. 10% discount is off a full rodizio dinner including all you can eat meat & salad bar. (Desserts\, beverages\, tax & gratuity additional). Offer is valid Sunday-Friday only.  Not valid with any other offer. Offer expires July 24\, 2023. \nPlease remember to bring your badge with you. \nFREE Rodizio Dinner Deal (For Team Captains & Organizers who bring in 30 or more people and reserve in advance). \nHave a party of 30 or more? We have a lovely private dining room to accommodate your group. Please contact debra@churrascobr.com to book your reservation in order to receive the deal. The organizer will receive a free rodizio dinner when 30 or more attend the party. (Valid when you show your badge. Valid 7 days a week for lunch or dinner. (Lunch served weekends only.) \nThank you for choosing Churrasco for your dinner. There is something for everyone at Churrasco! Special diet? No problem. Everything on the fresh market table is labeled. You may also order the salad bar separate. \nChurrasco offers 15 all you can eat meats (beef\, chicken\, pork\, lamb) and an all you can eat fresh market table with sides & salads for one set price. See the MENU here. \nFOR RESERVATIONS: Please call the hostess daily at 775.322.4000 after 3:00pm for your reservations or book online for 4 or less people. If you have any problems getting through to us\, please e-mail us (debra@churrascobr.com) for assistance. \nThank you and good luck in the tournament! \n  \n  \n 
URL:https://churrascobr.com/promotion/usbc-open-championships-deals/
LOCATION:Churrasco\, 425 S. Virginia St.\, Reno\, NV\, 89501\, United States
ATTACH;FMTTYPE=image/jpeg:https://churrascobr.com/wp-content/uploads/2023/03/USBC-logo.jpg
ORGANIZER;CN="Debra Ward":MAILTO:debra@churrascobr.com
END:VEVENT
BEGIN:VEVENT
DTSTART;TZID=America/Los_Angeles:20230602T080000
DTEND;TZID=America/Los_Angeles:20230627T012600
DTSTAMP:20260424T165945
CREATED:20230413T005236Z
LAST-MODIFIED:20230627T012630Z
UID:8409-1685692800-1687829160@churrascobr.com
SUMMARY:Birthday Promotion
DESCRIPTION:  \n \n\nCome celebrate your birthday at Churrasco and receive $25 off a full Rodizio Dinner.*\n*Offer valid the month of your birth only. ID is required. Coupon valid Monday-Thursday only. Not valid holidays. Good for purchase of full rodizio dinner only. No cash value. Not valid for alcoholic beverages. One discount per table/check. Tax and gratuity is additional. Does not included beverages or alcohol. Offer valid when you bring 3 or more adults.. The Birthday Discount Deal ends after the month of your birth has passed. Promotion can end anytime without notice. \n\nHOLD A TABLE
URL:https://churrascobr.com/promotion/birthday-promotion/
ATTACH;FMTTYPE=image/jpeg:https://churrascobr.com/wp-content/uploads/2023/04/1-scaled.jpg
END:VEVENT
BEGIN:VEVENT
DTSTART;TZID=America/Los_Angeles:20220727T173000
DTEND;TZID=America/Los_Angeles:20220727T190000
DTSTAMP:20260424T165945
CREATED:20220705T225056Z
LAST-MODIFIED:20220712T170632Z
UID:7105-1658943000-1658948400@churrascobr.com
SUMMARY:Winemaker's Dinner July 26th & 27th
DESCRIPTION:Churrasco Winemaker’s Dinner\nSECOND DATE ADDED! \nPlease join us for Churrasco’s first Winemaker’s Dinner on Tuesday\, July 26th (Wednesday\, July 27th is sold-out) featuring J. Lohr Vineyards & Wines. We added a new date by popular demand to accommodate more guests who want to attend. Space limited to 30 guests. \nPrice includes 5 courses of all you can eat meats\, including Lamb\, Chicken\, Steak\, Pork and the all you can enjoy fresh market table. Dessert is included.  Each of the meats will be sliced tableside by our Gaucho chefs and will be paired with the perfect wines for meat and sides. There will be a wine expert on hand from J. Lohr Vineyards to discuss the wines\, flavors and answer any questions. The event will be held in the private dining room. Every participant will receive a free raffle ticket for prizes between each course including bottles of wine. There will be four wines included\, a glass of each (Chardonnay\, Merlot\, Cabernet Sauvignon and a red wine) before every course. Please see the menu and all the selected wines below. \nCome join us for this very special evening – a great date night or celebratory activity for everyone 21 and over. \nTax & gratuity are additional. Space is limited to 30 people. Price includes 1 raffle ticket per person. There are four wines featured. Parking is free with validation. \nPlease e-mail info@churrascobr.com for reservations indicating your full name\, phone number and the number of people in your party. Please DO NOT use our online reservations link as this is an exclusively private event in our private upstairs dining room and is booked separately. Doing so will not reserve your seat. \nWe plan on holding these events once a month in the future. \nThank you and we look forward to serving you very soon! Come hungry!
URL:https://churrascobr.com/promotion/winemakersdinner/
CATEGORIES:eClub,Events
ATTACH;FMTTYPE=image/jpeg:https://churrascobr.com/wp-content/uploads/2022/07/Wine-Dinner-banner-web.jpg
ORGANIZER;CN="Debra Ward":MAILTO:debra@churrascobr.com
END:VEVENT
END:VCALENDAR